Package: BiocHubsShiny Version: 1.9.2 Command: /home/biocbuild/bbs-3.22-bioc/R/bin/R CMD build --keep-empty-dirs --no-resave-data --md5 BiocHubsShiny StartedAt: 2025-10-20 16:26:50 -0400 (Mon, 20 Oct 2025) EndedAt: 2025-10-20 16:27:10 -0400 (Mon, 20 Oct 2025) EllapsedTime: 20.0 seconds RetCode: 0 Status: OK PackageFile: BiocHubsShiny_1.9.2.tar.gz PackageFileSize: 1.605 MiB