Package: BiocHubsShiny Version: 1.9.2 Command: /Library/Frameworks/R.framework/Resources/bin/R CMD INSTALL BiocHubsShiny StartedAt: 2025-10-19 15:28:15 -0400 (Sun, 19 Oct 2025) EndedAt: 2025-10-19 15:28:36 -0400 (Sun, 19 Oct 2025) EllapsedTime: 21.5 seconds RetCode: 0 Status: OK