Package: BiocHubsShiny Version: 1.9.2 Command: /Library/Frameworks/R.framework/Resources/bin/R CMD build --keep-empty-dirs --no-resave-data BiocHubsShiny StartedAt: 2025-10-19 16:15:12 -0400 (Sun, 19 Oct 2025) EndedAt: 2025-10-19 16:15:41 -0400 (Sun, 19 Oct 2025) EllapsedTime: 28.6 seconds RetCode: 0 Status: OK PackageFile: BiocHubsShiny_1.9.2.tar.gz PackageFileSize: 1.604 MiB