Package: BiocHubsShiny Version: 1.9.2 Maintainer: Marcel Ramos MaintainerEmail: marcel.ramos at sph.cuny.edu git_url: https://git.bioconductor.org/packages/BiocHubsShiny git_branch: devel git_last_commit: c84d747 git_last_commit_date: 2025-09-22 10:26:40 -0400 (Mon, 22 Sep 2025)