Package: BiocGenerics Version: 0.56.0 Command: /home/biocbuild/R/R/bin/R CMD INSTALL BiocGenerics StartedAt: 2025-11-17 21:17:00 -0000 (Mon, 17 Nov 2025) EndedAt: 2025-11-17 21:17:21 -0000 (Mon, 17 Nov 2025) EllapsedTime: 20.4 seconds RetCode: 0 Status: OK