Package: BiocGenerics Version: 0.56.0 Command: /home/biocbuild/R/R/bin/R CMD check --install=check:BiocGenerics.install-out.txt --library=/home/biocbuild/R/R/site-library --no-vignettes --timings BiocGenerics_0.56.0.tar.gz StartedAt: 2025-11-18 07:01:47 -0000 (Tue, 18 Nov 2025) EndedAt: 2025-11-18 07:02:59 -0000 (Tue, 18 Nov 2025) EllapsedTime: 72.1 seconds RetCode: 0 Status: WARNINGS CheckDir: BiocGenerics.Rcheck Warnings: 1