Package: BiocGenerics Version: 0.55.1 Command: rm -rf BiocGenerics.buildbin-libdir && mkdir BiocGenerics.buildbin-libdir && F:\biocbuild\bbs-3.22-bioc\R\bin\R.exe CMD INSTALL --build --library=BiocGenerics.buildbin-libdir BiocGenerics_0.55.1.tar.gz StartedAt: 2025-08-15 09:49:06 -0400 (Fri, 15 Aug 2025) EndedAt: 2025-08-15 09:52:40 -0400 (Fri, 15 Aug 2025) EllapsedTime: 214.0 seconds RetCode: 0 Status: OK PackageFile: BiocGenerics_0.55.1.zip PackageFileSize: 644.8 KiB