Package: BiocGenerics Version: 0.56.0 Command: /home/biocbuild/bbs-3.22-bioc/R/bin/R CMD check --install=check:BiocGenerics.install-out.txt --library=/home/biocbuild/bbs-3.22-bioc/R/site-library --timings BiocGenerics_0.56.0.tar.gz StartedAt: 2025-11-18 00:58:55 -0500 (Tue, 18 Nov 2025) EndedAt: 2025-11-18 00:59:45 -0500 (Tue, 18 Nov 2025) EllapsedTime: 50.0 seconds RetCode: 0 Status: WARNINGS CheckDir: BiocGenerics.Rcheck Warnings: 1