Package: BiocGenerics Version: 0.56.0 Command: /Library/Frameworks/R.framework/Resources/bin/R CMD INSTALL BiocGenerics StartedAt: 2025-11-03 15:18:15 -0500 (Mon, 03 Nov 2025) EndedAt: 2025-11-03 15:18:35 -0500 (Mon, 03 Nov 2025) EllapsedTime: 20.4 seconds RetCode: 0 Status: OK