Package: BiocFileCache Version: 2.99.5 Command: F:\biocbuild\bbs-3.22-bioc\R\bin\R.exe CMD check --no-multiarch --install=check:BiocFileCache.install-out.txt --library=F:\biocbuild\bbs-3.22-bioc\R\library --no-vignettes --timings BiocFileCache_2.99.5.tar.gz StartedAt: 2025-08-15 00:55:31 -0400 (Fri, 15 Aug 2025) EndedAt: 2025-08-15 00:57:19 -0400 (Fri, 15 Aug 2025) EllapsedTime: 107.8 seconds RetCode: 0 Status: OK CheckDir: BiocFileCache.Rcheck Warnings: 0