Package: BiocFHIR Version: 1.11.0 Command: /home/biocbuild/R/R/bin/R CMD INSTALL BiocFHIR StartedAt: 2025-10-20 20:25:22 -0000 (Mon, 20 Oct 2025) EndedAt: 2025-10-20 20:25:32 -0000 (Mon, 20 Oct 2025) EllapsedTime: 9.6 seconds RetCode: 0 Status: OK