Package: BiocCheck Version: 1.45.20 Maintainer: Marcel Ramos MaintainerEmail: marcel.ramos at sph.cuny.edu git_url: https://git.bioconductor.org/packages/BiocCheck git_branch: devel git_last_commit: 9a9c0c1 git_last_commit_date: 2025-10-14 12:27:27 -0400 (Tue, 14 Oct 2025)