Package: BiocBook Version: 1.7.0 Command: /home/biocbuild/R/R/bin/R CMD check --install=check:BiocBook.install-out.txt --library=/home/biocbuild/R/R/site-library --no-vignettes --timings BiocBook_1.7.0.tar.gz StartedAt: 2025-09-30 05:08:28 -0000 (Tue, 30 Sep 2025) EndedAt: 2025-09-30 05:11:01 -0000 (Tue, 30 Sep 2025) EllapsedTime: 153.2 seconds RetCode: 0 Status: OK CheckDir: BiocBook.Rcheck Warnings: 0