Package: BiocBaseUtils Version: 1.11.2 Command: /home/biocbuild/bbs-3.22-bioc/R/bin/R CMD INSTALL BiocBaseUtils StartedAt: 2025-10-24 15:13:02 -0400 (Fri, 24 Oct 2025) EndedAt: 2025-10-24 15:13:13 -0400 (Fri, 24 Oct 2025) EllapsedTime: 11.2 seconds RetCode: 0 Status: OK