Package: BiocBaseUtils Version: 1.11.2 Command: /Library/Frameworks/R.framework/Resources/bin/R CMD INSTALL BiocBaseUtils StartedAt: 2025-10-21 15:02:19 -0400 (Tue, 21 Oct 2025) EndedAt: 2025-10-21 15:02:24 -0400 (Tue, 21 Oct 2025) EllapsedTime: 4.2 seconds RetCode: 0 Status: OK