Package: BiocBaseUtils Version: 1.11.2 Command: /Library/Frameworks/R.framework/Resources/bin/R CMD check --install=check:BiocBaseUtils.install-out.txt --library=/Library/Frameworks/R.framework/Resources/library --no-vignettes --timings BiocBaseUtils_1.11.2.tar.gz StartedAt: 2025-10-21 18:40:42 -0400 (Tue, 21 Oct 2025) EndedAt: 2025-10-21 18:40:52 -0400 (Tue, 21 Oct 2025) EllapsedTime: 10.1 seconds RetCode: 0 Status: OK CheckDir: BiocBaseUtils.Rcheck Warnings: 0