Package: BiocBaseUtils Version: 1.11.2 Command: rm -rf BiocBaseUtils.buildbin-libdir && mkdir BiocBaseUtils.buildbin-libdir && /Users/biocbuild/BBS/utils/build-universal.sh BiocBaseUtils_1.11.2.tar.gz /Library/Frameworks/R.framework/Resources/bin/R BiocBaseUtils.buildbin-libdir StartedAt: 2025-10-20 22:52:58 -0400 (Mon, 20 Oct 2025) EndedAt: 2025-10-20 22:53:00 -0400 (Mon, 20 Oct 2025) EllapsedTime: 2.0 seconds RetCode: 0 Status: OK PackageFile: BiocBaseUtils_1.11.2.tgz PackageFileSize: 251.3 KiB