Back to Multiple platform build/check report for BioC 3.22:   simplified   long
A[B]CDEFGHIJKLMNOPQRSTUVWXYZ

This page was generated on 2025-10-30 12:34 -0400 (Thu, 30 Oct 2025).

HostnameOSArch (*)R versionInstalled pkgs
nebbiolo2Linux (Ubuntu 24.04.3 LTS)x86_644.5.1 Patched (2025-08-23 r88802) -- "Great Square Root" 4901
lconwaymacOS 12.7.6 Montereyx86_644.5.1 Patched (2025-09-10 r88807) -- "Great Square Root" 4691
kjohnson3macOS 13.7.7 Venturaarm644.5.1 Patched (2025-09-10 r88807) -- "Great Square Root" 4637
Click on any hostname to see more info about the system (e.g. compilers)      (*) as reported by 'uname -p', except on Windows and Mac OS X

All results for package BiocBaseUtils


To the developers/maintainers of the BiocBaseUtils package:
- Allow up to 24 hours (and sometimes 48 hours) for your latest push to git@git.bioconductor.org:packages/BiocBaseUtils.git to reflect on this report. See Troubleshooting Build Report for more information.
- Use the following Renviron settings to reproduce errors and warnings.
- If 'R CMD check' started to fail recently on the Linux builder(s) over a missing dependency, add the missing dependency to 'Suggests:' in your DESCRIPTION file. See Renviron.bioc for more information.

raw results

Package 185/2361HostnameOS / ArchINSTALLBUILDCHECKBUILD BIN
BiocBaseUtils 1.12.0  (landing page)
Marcel Ramos
Snapshot Date: 2025-10-29 19:52 -0400 (Wed, 29 Oct 2025)
git_url: https://git.bioconductor.org/packages/BiocBaseUtils
git_branch: RELEASE_3_22
git_last_commit: 756163a
git_last_commit_date: 2025-10-29 11:17:04 -0400 (Wed, 29 Oct 2025)
nebbiolo2Linux (Ubuntu 24.04.3 LTS) / x86_64  OK    OK    OK  UNNEEDED, same version is already published
lconwaymacOS 12.7.6 Monterey / x86_64  OK    OK    OK    OK  UNNEEDED, same version is already published
kjohnson3macOS 13.7.7 Ventura / arm64  OK    OK    OK    OK  UNNEEDED, same version is already published



Results for Bioconductor software packages that depend directly on package BiocBaseUtils

QUICK STATSOS / ArchINSTALLBUILDCHECKBUILD BIN
nebbiolo2Linux (Ubuntu 24.04.3 LTS) / x86_64
0024
0123
01022
lconwaymacOS 12.7.6 Monterey / x86_64
0024
0222
01021
0022
kjohnson3macOS 13.7.7 Ventura / arm64
0024
0222
01021
0022
Package 1/24HostnameOS / ArchINSTALLBUILDCHECKBUILD BIN
AlphaMissenseR 1.6.0  (landing page)
Martin Morgan
git_last_commit: 869abf7
git_last_commit_date: 2025-10-29 11:27:01 -0400
nebbiolo2Linux (Ubuntu 24.04.3 LTS) / x86_64  OK    OK    OK  UNNEEDED, same version is already published
lconwaymacOS 12.7.6 Monterey / x86_64  OK    OK    OK    OK  UNNEEDED, same version is already published
kjohnson3macOS 13.7.7 Ventura / arm64  OK    OK    OK    OK  UNNEEDED, same version is already published
Package 2/24HostnameOS / ArchINSTALLBUILDCHECKBUILD BIN
AnnotationHub 4.0.0  (landing page)
Bioconductor Package Maintainer
git_last_commit: e27e804
git_last_commit_date: 2025-10-29 10:14:23 -0400
nebbiolo2Linux (Ubuntu 24.04.3 LTS) / x86_64  OK    OK    OK  UNNEEDED, same version is already published
lconwaymacOS 12.7.6 Monterey / x86_64  OK    OK    OK    OK  UNNEEDED, same version is already published
kjohnson3macOS 13.7.7 Ventura / arm64  OK    OK    OK    OK  UNNEEDED, same version is already published
Package 3/24HostnameOS / ArchINSTALLBUILDCHECKBUILD BIN
AnVIL 1.22.0  (landing page)
Marcel Ramos
git_last_commit: d87ee9c
git_last_commit_date: 2025-10-29 19:20:07 -0400
nebbiolo2Linux (Ubuntu 24.04.3 LTS) / x86_64  OK    OK    OK  UNNEEDED, same version is already published
lconwaymacOS 12.7.6 Monterey / x86_64  OK    OK    OK    OK  UNNEEDED, same version is already published
kjohnson3macOS 13.7.7 Ventura / arm64  OK    OK    OK    OK  UNNEEDED, same version is already published
Package 4/24HostnameOS / ArchINSTALLBUILDCHECKBUILD BIN
AnVILAz 1.4.0  (landing page)
Marcel Ramos
git_last_commit: b9b0191
git_last_commit_date: 2025-10-29 11:31:07 -0400
nebbiolo2Linux (Ubuntu 24.04.3 LTS) / x86_64  OK    OK    OK  UNNEEDED, same version is already published
lconwaymacOS 12.7.6 Monterey / x86_64  OK    OK    OK    OK  UNNEEDED, same version is already published
kjohnson3macOS 13.7.7 Ventura / arm64  OK    OK    OK    OK  UNNEEDED, same version is already published
Package 5/24HostnameOS / ArchINSTALLBUILDCHECKBUILD BIN
AnVILGCP 1.4.0  (landing page)
Marcel Ramos
git_last_commit: 4361fc4
git_last_commit_date: 2025-10-29 11:31:10 -0400
nebbiolo2Linux (Ubuntu 24.04.3 LTS) / x86_64  OK    OK    OK  UNNEEDED, same version is already published
lconwaymacOS 12.7.6 Monterey / x86_64  OK    OK    OK    OK  UNNEEDED, same version is already published
kjohnson3macOS 13.7.7 Ventura / arm64  OK    OK    OK    OK  UNNEEDED, same version is already published
Package 6/24HostnameOS / ArchINSTALLBUILDCHECKBUILD BIN
AnVILPublish 1.20.0  (landing page)
Marcel Ramos
git_last_commit: d3ede23
git_last_commit_date: 2025-10-29 11:03:32 -0400
nebbiolo2Linux (Ubuntu 24.04.3 LTS) / x86_64  OK    OK    OK  UNNEEDED, same version is already published
lconwaymacOS 12.7.6 Monterey / x86_64  OK    OK    OK    OK  UNNEEDED, same version is already published
kjohnson3macOS 13.7.7 Ventura / arm64  OK    OK    OK    OK  UNNEEDED, same version is already published
Package 7/24HostnameOS / ArchINSTALLBUILDCHECKBUILD BIN
Bioc.gff 1.0.0  (landing page)
Bioconductor Package Maintainer
git_last_commit: 5bbebde
git_last_commit_date: 2025-10-29 11:37:35 -0400
nebbiolo2Linux (Ubuntu 24.04.3 LTS) / x86_64  OK    OK    OK  UNNEEDED, same version is already published
lconwaymacOS 12.7.6 Monterey / x86_64  OK    OK    OK    OK  UNNEEDED, same version is already published
kjohnson3macOS 13.7.7 Ventura / arm64  OK    OK    OK    OK  UNNEEDED, same version is already published
Package 8/24HostnameOS / ArchINSTALLBUILDCHECKBUILD BIN
BiocCheck 1.46.0  (landing page)
Marcel Ramos
git_last_commit: 79a3619
git_last_commit_date: 2025-10-29 19:20:08 -0400
nebbiolo2Linux (Ubuntu 24.04.3 LTS) / x86_64  OK    OK    OK  UNNEEDED, same version is already published
lconwaymacOS 12.7.6 Monterey / x86_64  OK    OK    OK    OK  UNNEEDED, same version is already published
kjohnson3macOS 13.7.7 Ventura / arm64  OK    OK    OK    OK  UNNEEDED, same version is already published
Package 9/24HostnameOS / ArchINSTALLBUILDCHECKBUILD BIN
BiocFHIR 1.12.0  (landing page)
Vincent Carey
git_last_commit: 53cafbd
git_last_commit_date: 2025-10-29 11:19:42 -0400
nebbiolo2Linux (Ubuntu 24.04.3 LTS) / x86_64  OK    OK    OK  UNNEEDED, same version is already published
lconwaymacOS 12.7.6 Monterey / x86_64  OK    OK    OK    OK  UNNEEDED, same version is already published
kjohnson3macOS 13.7.7 Ventura / arm64  OK    OK    OK    OK  UNNEEDED, same version is already published
Package 10/24HostnameOS / ArchINSTALLBUILDCHECKBUILD BIN
cBioPortalData 2.22.0  (landing page)
Marcel Ramos
git_last_commit: 64fff17
git_last_commit_date: 2025-10-29 10:59:37 -0400
nebbiolo2Linux (Ubuntu 24.04.3 LTS) / x86_64  OK    ERROR  skipped
lconwaymacOS 12.7.6 Monterey / x86_64  OK    ERROR  skippedskipped
kjohnson3macOS 13.7.7 Ventura / arm64  OK    ERROR  skippedskipped
Package 11/24HostnameOS / ArchINSTALLBUILDCHECKBUILD BIN
DNAfusion 1.12.0  (landing page)
Christoffer Trier Maansson
git_last_commit: 7226d68
git_last_commit_date: 2025-10-29 11:19:47 -0400
nebbiolo2Linux (Ubuntu 24.04.3 LTS) / x86_64  OK    OK    OK  UNNEEDED, same version is already published
lconwaymacOS 12.7.6 Monterey / x86_64  OK    OK    OK    OK  UNNEEDED, same version is already published
kjohnson3macOS 13.7.7 Ventura / arm64  OK    OK    OK    OK  UNNEEDED, same version is already published
Package 12/24HostnameOS / ArchINSTALLBUILDCHECKBUILD BIN
GCPtools 1.0.0  (landing page)
Marcel Ramos
git_last_commit: f9b794c
git_last_commit_date: 2025-10-29 11:36:55 -0400
nebbiolo2Linux (Ubuntu 24.04.3 LTS) / x86_64  OK    OK    OK  UNNEEDED, same version is already published
lconwaymacOS 12.7.6 Monterey / x86_64  OK    OK    OK    OK  UNNEEDED, same version is already published
kjohnson3macOS 13.7.7 Ventura / arm64  OK    OK    OK    OK  UNNEEDED, same version is already published
Package 13/24HostnameOS / ArchINSTALLBUILDCHECKBUILD BIN
GenomicFiles 1.46.0  (landing page)
Bioconductor Package Maintainer
git_last_commit: a7f3143
git_last_commit_date: 2025-10-29 10:19:18 -0400
nebbiolo2Linux (Ubuntu 24.04.3 LTS) / x86_64  OK    OK    OK  UNNEEDED, same version is already published
lconwaymacOS 12.7.6 Monterey / x86_64  OK    OK    OK    OK  UNNEEDED, same version is already published
kjohnson3macOS 13.7.7 Ventura / arm64  OK    OK    OK    OK  UNNEEDED, same version is already published
Package 14/24HostnameOS / ArchINSTALLBUILDCHECKBUILD BIN
iSEEfier 1.6.0  (landing page)
Najla Abassi
git_last_commit: 164f3c4
git_last_commit_date: 2025-10-29 11:29:10 -0400
nebbiolo2Linux (Ubuntu 24.04.3 LTS) / x86_64  OK    OK    OK  UNNEEDED, same version is already published
lconwaymacOS 12.7.6 Monterey / x86_64  OK    OK    OK    OK  UNNEEDED, same version is already published
kjohnson3macOS 13.7.7 Ventura / arm64  OK    OK    OK    OK  UNNEEDED, same version is already published
Package 15/24HostnameOS / ArchINSTALLBUILDCHECKBUILD BIN
looking4clusters 1.0.0  (landing page)
David Barrios
git_last_commit: 8c0f82c
git_last_commit_date: 2025-10-29 11:38:18 -0400
nebbiolo2Linux (Ubuntu 24.04.3 LTS) / x86_64  OK    OK    OK  UNNEEDED, same version is already published
lconwaymacOS 12.7.6 Monterey / x86_64  OK    OK    OK    OK  UNNEEDED, same version is already published
kjohnson3macOS 13.7.7 Ventura / arm64  OK    OK    OK    OK  UNNEEDED, same version is already published
Package 16/24HostnameOS / ArchINSTALLBUILDCHECKBUILD BIN
MultiAssayExperiment 1.36.0  (landing page)
Marcel Ramos
git_last_commit: 1b8ac6c
git_last_commit_date: 2025-10-29 10:31:09 -0400
nebbiolo2Linux (Ubuntu 24.04.3 LTS) / x86_64  OK    OK    OK  UNNEEDED, same version is already published
lconwaymacOS 12.7.6 Monterey / x86_64  OK    OK    OK    OK  UNNEEDED, same version is already published
kjohnson3macOS 13.7.7 Ventura / arm64  OK    OK    OK    OK  UNNEEDED, same version is already published
Package 17/24HostnameOS / ArchINSTALLBUILDCHECKBUILD BIN
RaggedExperiment 1.34.0  (landing page)
Marcel Ramos
git_last_commit: 2cf1b41
git_last_commit_date: 2025-10-29 10:37:59 -0400
nebbiolo2Linux (Ubuntu 24.04.3 LTS) / x86_64  OK    OK    OK  UNNEEDED, same version is already published
lconwaymacOS 12.7.6 Monterey / x86_64  OK    OK    OK    OK  UNNEEDED, same version is already published
kjohnson3macOS 13.7.7 Ventura / arm64  OK    OK    OK    OK  UNNEEDED, same version is already published
Package 18/24HostnameOS / ArchINSTALLBUILDCHECKBUILD BIN
scGraphVerse 1.0.0  (landing page)
Francesco Cecere
git_last_commit: 425f2dc
git_last_commit_date: 2025-10-29 11:38:49 -0400
nebbiolo2Linux (Ubuntu 24.04.3 LTS) / x86_64  OK    OK    OK  UNNEEDED, same version is already published
lconwaymacOS 12.7.6 Monterey / x86_64  OK    OK    OK    OK  UNNEEDED, same version is already published
kjohnson3macOS 13.7.7 Ventura / arm64  OK    OK    OK    OK  UNNEEDED, same version is already published
Package 19/24HostnameOS / ArchINSTALLBUILDCHECKBUILD BIN
TCGAutils 1.30.0  (landing page)
Marcel Ramos
git_last_commit: 4195bdf
git_last_commit_date: 2025-10-29 10:45:09 -0400
nebbiolo2Linux (Ubuntu 24.04.3 LTS) / x86_64  OK    OK    ERROR  
lconwaymacOS 12.7.6 Monterey / x86_64  OK    OK    ERROR    OK  
kjohnson3macOS 13.7.7 Ventura / arm64  OK    OK    ERROR    OK  
Package 20/24HostnameOS / ArchINSTALLBUILDCHECKBUILD BIN
TENxIO 1.12.0  (landing page)
Marcel Ramos
git_last_commit: 4adee52
git_last_commit_date: 2025-10-29 11:19:24 -0400
nebbiolo2Linux (Ubuntu 24.04.3 LTS) / x86_64  OK    OK    OK  UNNEEDED, same version is already published
lconwaymacOS 12.7.6 Monterey / x86_64  OK    ERROR  skippedskipped
kjohnson3macOS 13.7.7 Ventura / arm64  OK    ERROR  skippedskipped
Package 21/24HostnameOS / ArchINSTALLBUILDCHECKBUILD BIN
UniProt.ws 2.50.0  (landing page)
Marcel Ramos
git_last_commit: d7b37e1
git_last_commit_date: 2025-10-29 10:12:47 -0400
nebbiolo2Linux (Ubuntu 24.04.3 LTS) / x86_64  OK    OK    OK  UNNEEDED, same version is already published
lconwaymacOS 12.7.6 Monterey / x86_64  OK    OK    OK    OK  UNNEEDED, same version is already published
kjohnson3macOS 13.7.7 Ventura / arm64  OK    OK    OK    OK  UNNEEDED, same version is already published
Package 22/24HostnameOS / ArchINSTALLBUILDCHECKBUILD BIN
VisiumIO 1.6.0  (landing page)
Marcel Ramos
git_last_commit: 0a06453
git_last_commit_date: 2025-10-29 11:27:23 -0400
nebbiolo2Linux (Ubuntu 24.04.3 LTS) / x86_64  OK    OK    OK  UNNEEDED, same version is already published
lconwaymacOS 12.7.6 Monterey / x86_64  OK    OK    OK    OK  UNNEEDED, same version is already published
kjohnson3macOS 13.7.7 Ventura / arm64  OK    OK    OK    OK  UNNEEDED, same version is already published
Package 23/24HostnameOS / ArchINSTALLBUILDCHECKBUILD BIN
visiumStitched 1.2.0  (landing page)
Nicholas J. Eagles
git_last_commit: a3f730b
git_last_commit_date: 2025-10-29 11:33:12 -0400
nebbiolo2Linux (Ubuntu 24.04.3 LTS) / x86_64  OK    OK    OK  YES
lconwaymacOS 12.7.6 Monterey / x86_64  OK    OK    OK    OK  UNNEEDED, same version is already published
kjohnson3macOS 13.7.7 Ventura / arm64  OK    OK    OK    OK  UNNEEDED, same version is already published
Package 24/24HostnameOS / ArchINSTALLBUILDCHECKBUILD BIN
XeniumIO 1.2.0  (landing page)
Marcel Ramos
git_last_commit: 727bab9
git_last_commit_date: 2025-10-29 11:34:29 -0400
nebbiolo2Linux (Ubuntu 24.04.3 LTS) / x86_64  OK    OK    OK  YES
lconwaymacOS 12.7.6 Monterey / x86_64  OK    OK    OK    OK  UNNEEDED, same version is already published
kjohnson3macOS 13.7.7 Ventura / arm64  OK    OK    OK    OK  UNNEEDED, same version is already published