Package: Bioc.gff Version: 1.0.0 Command: /home/biocbuild/R/R/bin/R CMD check --install=check:Bioc.gff.install-out.txt --library=/home/biocbuild/R/R/site-library --no-vignettes --timings Bioc.gff_1.0.0.tar.gz StartedAt: 2025-11-14 07:08:00 -0000 (Fri, 14 Nov 2025) EndedAt: 2025-11-14 07:10:28 -0000 (Fri, 14 Nov 2025) EllapsedTime: 147.2 seconds RetCode: 0 Status: OK CheckDir: Bioc.gff.Rcheck Warnings: 0