Package: Bioc.gff Version: 1.0.0 Command: /home/biocbuild/R/R/bin/R CMD build --keep-empty-dirs --no-resave-data Bioc.gff StartedAt: 2025-11-13 23:59:07 -0000 (Thu, 13 Nov 2025) EndedAt: 2025-11-14 00:00:10 -0000 (Fri, 14 Nov 2025) EllapsedTime: 63.0 seconds RetCode: 0 Status: OK PackageFile: Bioc.gff_1.0.0.tar.gz PackageFileSize: 289.9 KiB