Package: BioTIP Version: 1.23.1 Command: /home/biocbuild/R/R/bin/R CMD INSTALL BioTIP StartedAt: 2025-10-16 22:23:20 -0000 (Thu, 16 Oct 2025) EndedAt: 2025-10-16 22:23:37 -0000 (Thu, 16 Oct 2025) EllapsedTime: 16.6 seconds RetCode: 0 Status: OK