Package: BioTIP Version: 1.23.1 Command: /home/biocbuild/R/R/bin/R CMD check --install=check:BioTIP.install-out.txt --library=/home/biocbuild/R/R/site-library --no-vignettes --timings BioTIP_1.23.1.tar.gz StartedAt: 2025-10-17 06:49:30 -0000 (Fri, 17 Oct 2025) EndedAt: 2025-10-17 06:51:45 -0000 (Fri, 17 Oct 2025) EllapsedTime: 135.3 seconds RetCode: 0 Status: WARNINGS CheckDir: BioTIP.Rcheck Warnings: 3