Package: BioTIP Version: 1.23.1 Command: /home/biocbuild/R/R/bin/R CMD build --keep-empty-dirs --no-resave-data BioTIP StartedAt: 2025-10-16 23:36:05 -0000 (Thu, 16 Oct 2025) EndedAt: 2025-10-16 23:41:03 -0000 (Thu, 16 Oct 2025) EllapsedTime: 298.1 seconds RetCode: 0 Status: OK PackageFile: BioTIP_1.23.1.tar.gz PackageFileSize: 7.86 MiB