Package: BioTIP Version: 1.23.1 Command: /Library/Frameworks/R.framework/Resources/bin/R CMD INSTALL BioTIP StartedAt: 2025-10-20 15:49:29 -0400 (Mon, 20 Oct 2025) EndedAt: 2025-10-20 15:49:47 -0400 (Mon, 20 Oct 2025) EllapsedTime: 18.1 seconds RetCode: 0 Status: OK