Package: BioTIP Version: 1.23.1 Command: /Library/Frameworks/R.framework/Resources/bin/R CMD build --keep-empty-dirs --no-resave-data BioTIP StartedAt: 2025-10-19 16:16:57 -0400 (Sun, 19 Oct 2025) EndedAt: 2025-10-19 16:19:01 -0400 (Sun, 19 Oct 2025) EllapsedTime: 124.3 seconds RetCode: 0 Status: OK PackageFile: BioTIP_1.23.1.tar.gz PackageFileSize: 8.858 MiB