Package: BioTIP Version: 1.23.1 Command: rm -rf BioTIP.buildbin-libdir && mkdir BioTIP.buildbin-libdir && /Users/biocbuild/BBS/utils/build-universal.sh BioTIP_1.23.1.tar.gz /Library/Frameworks/R.framework/Resources/bin/R BioTIP.buildbin-libdir StartedAt: 2025-10-20 02:58:50 -0400 (Mon, 20 Oct 2025) EndedAt: 2025-10-20 02:59:11 -0400 (Mon, 20 Oct 2025) EllapsedTime: 20.8 seconds RetCode: 0 Status: OK PackageFile: BioTIP_1.23.1.tgz PackageFileSize: 7.189 MiB