Package: BioTIP Version: 1.23.1 Command: /Library/Frameworks/R.framework/Resources/bin/R CMD INSTALL BioTIP StartedAt: 2025-10-21 15:30:26 -0400 (Tue, 21 Oct 2025) EndedAt: 2025-10-21 15:30:31 -0400 (Tue, 21 Oct 2025) EllapsedTime: 5.1 seconds RetCode: 0 Status: OK