Package: BioNERO Version: 1.17.3 Command: /home/biocbuild/R/R/bin/R CMD INSTALL BioNERO StartedAt: 2025-10-20 21:11:30 -0000 (Mon, 20 Oct 2025) EndedAt: 2025-10-20 21:12:18 -0000 (Mon, 20 Oct 2025) EllapsedTime: 47.4 seconds RetCode: 0 Status: OK