Package: BioNERO Version: 1.17.0 Command: chmod a+r BioNERO -R && F:\biocbuild\bbs-3.22-bioc\R\bin\R.exe CMD build --keep-empty-dirs --no-resave-data BioNERO StartedAt: 2025-08-14 18:47:41 -0400 (Thu, 14 Aug 2025) EndedAt: 2025-08-14 18:54:02 -0400 (Thu, 14 Aug 2025) EllapsedTime: 380.3 seconds RetCode: 0 Status: OK PackageFile: BioNERO_1.17.0.tar.gz PackageFileSize: 3.709 MiB