Package: BioNERO Version: 1.17.3 Command: /home/biocbuild/bbs-3.22-bioc/R/bin/R CMD INSTALL BioNERO StartedAt: 2025-10-22 15:45:06 -0400 (Wed, 22 Oct 2025) EndedAt: 2025-10-22 15:45:43 -0400 (Wed, 22 Oct 2025) EllapsedTime: 36.7 seconds RetCode: 0 Status: OK