Package: BioNERO Version: 1.17.3 Command: /home/biocbuild/bbs-3.22-bioc/R/bin/R CMD check --install=check:BioNERO.install-out.txt --library=/home/biocbuild/bbs-3.22-bioc/R/site-library --timings BioNERO_1.17.3.tar.gz StartedAt: 2025-10-22 21:35:45 -0400 (Wed, 22 Oct 2025) EndedAt: 2025-10-22 21:48:12 -0400 (Wed, 22 Oct 2025) EllapsedTime: 747.7 seconds RetCode: 0 Status: OK CheckDir: BioNERO.Rcheck Warnings: 0