Package: BioNERO Version: 1.17.3 Command: /Library/Frameworks/R.framework/Resources/bin/R CMD check --install=check:BioNERO.install-out.txt --library=/Library/Frameworks/R.framework/Resources/library --no-vignettes --timings BioNERO_1.17.3.tar.gz StartedAt: 2025-10-22 19:40:54 -0400 (Wed, 22 Oct 2025) EndedAt: 2025-10-22 19:51:55 -0400 (Wed, 22 Oct 2025) EllapsedTime: 661.0 seconds RetCode: 0 Status: OK CheckDir: BioNERO.Rcheck Warnings: 0