Package: BioNERO Version: 1.17.3 Command: /Library/Frameworks/R.framework/Resources/bin/R CMD INSTALL BioNERO StartedAt: 2025-10-22 15:25:48 -0400 (Wed, 22 Oct 2025) EndedAt: 2025-10-22 15:26:03 -0400 (Wed, 22 Oct 2025) EllapsedTime: 15.5 seconds RetCode: 0 Status: OK