Package: BioNERO Version: 1.17.3 Command: /Library/Frameworks/R.framework/Resources/bin/R CMD build --keep-empty-dirs --no-resave-data BioNERO StartedAt: 2025-10-22 15:46:34 -0400 (Wed, 22 Oct 2025) EndedAt: 2025-10-22 15:48:48 -0400 (Wed, 22 Oct 2025) EllapsedTime: 133.5 seconds RetCode: 0 Status: OK PackageFile: BioNERO_1.17.3.tar.gz PackageFileSize: 4.957 MiB