Package: BioNAR Version: 1.11.0 Command: /home/biocbuild/R/R/bin/R CMD INSTALL BioNAR StartedAt: 2025-10-23 21:07:49 -0000 (Thu, 23 Oct 2025) EndedAt: 2025-10-23 21:08:23 -0000 (Thu, 23 Oct 2025) EllapsedTime: 34.5 seconds RetCode: 0 Status: OK