Package: BioNAR Version: 1.11.0 Command: /home/biocbuild/R/R/bin/R CMD check --install=check:BioNAR.install-out.txt --library=/home/biocbuild/R/R/site-library --no-vignettes --timings BioNAR_1.11.0.tar.gz StartedAt: 2025-10-21 05:01:21 -0000 (Tue, 21 Oct 2025) EndedAt: 2025-10-21 06:02:20 -0000 (Tue, 21 Oct 2025) EllapsedTime: 3659.3 seconds RetCode: None Status: TIMEOUT CheckDir: BioNAR.Rcheck Warnings: NA