Package: BioNAR Version: 1.11.0 Command: /home/biocbuild/R/R/bin/R CMD build --keep-empty-dirs --no-resave-data BioNAR StartedAt: 2025-10-20 22:17:26 -0000 (Mon, 20 Oct 2025) EndedAt: 2025-10-20 22:20:57 -0000 (Mon, 20 Oct 2025) EllapsedTime: 211.1 seconds RetCode: 0 Status: OK PackageFile: BioNAR_1.11.0.tar.gz PackageFileSize: 3.421 MiB