Package: BioNAR Version: 1.11.0 Command: F:\biocbuild\bbs-3.22-bioc\R\bin\R.exe CMD check --no-multiarch --install=check:BioNAR.install-out.txt --library=F:\biocbuild\bbs-3.22-bioc\R\library --no-vignettes --timings BioNAR_1.11.0.tar.gz StartedAt: 2025-08-15 01:03:28 -0400 (Fri, 15 Aug 2025) EndedAt: 2025-08-15 01:12:59 -0400 (Fri, 15 Aug 2025) EllapsedTime: 571.2 seconds RetCode: 0 Status: OK CheckDir: BioNAR.Rcheck Warnings: 0