Package: BioNAR Version: 1.11.0 Command: chmod a+r BioNAR -R && F:\biocbuild\bbs-3.22-bioc\R\bin\R.exe CMD build --keep-empty-dirs --no-resave-data BioNAR StartedAt: 2025-08-14 18:47:35 -0400 (Thu, 14 Aug 2025) EndedAt: 2025-08-14 18:51:15 -0400 (Thu, 14 Aug 2025) EllapsedTime: 219.9 seconds RetCode: 0 Status: OK PackageFile: BioNAR_1.11.0.tar.gz PackageFileSize: 2.627 MiB