Package: BioNAR Version: 1.11.0 Command: /home/biocbuild/bbs-3.22-bioc/R/bin/R CMD build --keep-empty-dirs --no-resave-data --md5 BioNAR StartedAt: 2025-10-21 16:33:01 -0400 (Tue, 21 Oct 2025) EndedAt: 2025-10-21 16:35:26 -0400 (Tue, 21 Oct 2025) EllapsedTime: 145.1 seconds RetCode: 0 Status: OK PackageFile: BioNAR_1.11.0.tar.gz PackageFileSize: 3.508 MiB