Package: BioNAR Version: 1.11.0 Command: /Library/Frameworks/R.framework/Resources/bin/R CMD INSTALL BioNAR StartedAt: 2025-10-23 15:34:46 -0400 (Thu, 23 Oct 2025) EndedAt: 2025-10-23 15:35:22 -0400 (Thu, 23 Oct 2025) EllapsedTime: 35.6 seconds RetCode: 0 Status: OK