Package: BioNAR Version: 1.11.0 Command: /Library/Frameworks/R.framework/Resources/bin/R CMD build --keep-empty-dirs --no-resave-data BioNAR StartedAt: 2025-10-23 16:12:25 -0400 (Thu, 23 Oct 2025) EndedAt: 2025-10-23 16:15:13 -0400 (Thu, 23 Oct 2025) EllapsedTime: 168.1 seconds RetCode: 0 Status: OK PackageFile: BioNAR_1.11.0.tar.gz PackageFileSize: 3.681 MiB