Package: BioNAR Version: 1.11.0 Command: rm -rf BioNAR.buildbin-libdir && mkdir BioNAR.buildbin-libdir && /Users/biocbuild/BBS/utils/build-universal.sh BioNAR_1.11.0.tar.gz /Library/Frameworks/R.framework/Resources/bin/R BioNAR.buildbin-libdir StartedAt: 2025-10-24 01:24:15 -0400 (Fri, 24 Oct 2025) EndedAt: 2025-10-24 01:24:56 -0400 (Fri, 24 Oct 2025) EllapsedTime: 40.6 seconds RetCode: 0 Status: OK PackageFile: BioNAR_1.11.0.tgz PackageFileSize: 4.227 MiB