Package: BioNAR Version: 1.11.0 Command: /Library/Frameworks/R.framework/Resources/bin/R CMD INSTALL BioNAR StartedAt: 2025-10-22 15:25:38 -0400 (Wed, 22 Oct 2025) EndedAt: 2025-10-22 15:25:47 -0400 (Wed, 22 Oct 2025) EllapsedTime: 9.8 seconds RetCode: 0 Status: OK