Package: BioNAR Version: 1.11.0 Command: /Library/Frameworks/R.framework/Resources/bin/R CMD build --keep-empty-dirs --no-resave-data BioNAR StartedAt: 2025-10-22 15:46:33 -0400 (Wed, 22 Oct 2025) EndedAt: 2025-10-22 15:47:36 -0400 (Wed, 22 Oct 2025) EllapsedTime: 62.7 seconds RetCode: 0 Status: OK PackageFile: BioNAR_1.11.0.tar.gz PackageFileSize: 3.609 MiB