Package: BioMVCClass Version: 1.77.0 Command: /Library/Frameworks/R.framework/Resources/bin/R CMD INSTALL BioMVCClass StartedAt: 2025-10-20 15:08:11 -0400 (Mon, 20 Oct 2025) EndedAt: 2025-10-20 15:08:14 -0400 (Mon, 20 Oct 2025) EllapsedTime: 2.4 seconds RetCode: 0 Status: OK