Package: BioMVCClass Version: 1.77.0 Command: /Library/Frameworks/R.framework/Resources/bin/R CMD check --install=check:BioMVCClass.install-out.txt --library=/Library/Frameworks/R.framework/Resources/library --no-vignettes --timings BioMVCClass_1.77.0.tar.gz StartedAt: 2025-10-19 18:39:19 -0400 (Sun, 19 Oct 2025) EndedAt: 2025-10-19 18:39:34 -0400 (Sun, 19 Oct 2025) EllapsedTime: 15.2 seconds RetCode: 0 Status: OK CheckDir: BioMVCClass.Rcheck Warnings: 0