Package: BioMVCClass Version: 1.77.0 Command: rm -rf BioMVCClass.buildbin-libdir && mkdir BioMVCClass.buildbin-libdir && /Users/biocbuild/BBS/utils/build-universal.sh BioMVCClass_1.77.0.tar.gz /Library/Frameworks/R.framework/Resources/bin/R BioMVCClass.buildbin-libdir StartedAt: 2025-10-19 22:52:15 -0400 (Sun, 19 Oct 2025) EndedAt: 2025-10-19 22:52:18 -0400 (Sun, 19 Oct 2025) EllapsedTime: 3.1 seconds RetCode: 0 Status: OK PackageFile: BioMVCClass_1.77.0.tgz PackageFileSize: 145.2 KiB