Package: BioGA Version: 1.3.0 Command: /home/biocbuild/R/R/bin/R CMD INSTALL BioGA StartedAt: 2025-10-20 21:24:42 -0000 (Mon, 20 Oct 2025) EndedAt: 2025-10-20 21:25:44 -0000 (Mon, 20 Oct 2025) EllapsedTime: 62.0 seconds RetCode: 0 Status: OK