Package: BioGA Version: 1.3.0 Command: /home/biocbuild/R/R/bin/R CMD check --install=check:BioGA.install-out.txt --library=/home/biocbuild/R/R/site-library --no-vignettes --timings BioGA_1.3.0.tar.gz StartedAt: 2025-10-21 04:59:34 -0000 (Tue, 21 Oct 2025) EndedAt: 2025-10-21 06:02:20 -0000 (Tue, 21 Oct 2025) EllapsedTime: 3766.5 seconds RetCode: None Status: TIMEOUT CheckDir: BioGA.Rcheck Warnings: NA